BEGIN:VCALENDAR
VERSION:2.0
PRODID:-//AudioTheme 2.3.4
BEGIN:VEVENT
UID:urn:uuid:ba2cf68a-1bf3-4e34-9c8a-a9a7ff9a9963
URL:https://floridante.org/kontserdid/guy-cutting-alvar-tiisler-floridante-plaadiesitluskontsert/
DTSTART;TZID=GMT:20260725T000000
SUMMARY:Guy Cutting. Alvar Tiisler. Plaadiesitluskontsert
DESCRIPTION:Guy Cutting - tenor  Alvar Tiisler - bariton  Aira Maria Lehtipuu - kontsertmeister  Floridante
LOCATION:Haapsalu toomkirik\, Haapsalu\, Haapsalu\, \, Estonia\, 90502
END:VEVENT
END:VCALENDAR
