BEGIN:VCALENDAR
VERSION:2.0
PRODID:-//AudioTheme 2.3.4
BEGIN:VEVENT
UID:urn:uuid:1960c4eb-a8b6-4ac2-b2a2-76d04b2e9111
URL:https://floridante.org/kontserdid/gambavaim-2026/
DTSTART;TZID=GMT:20260803T000000
SUMMARY:Gambavaim 2026
DESCRIPTION:Gambavaim 2026  3.-6. august
LOCATION:Kuriste haridusselts\, Taterma küla\, Käina vald\, Hiiumaa\, Estonia\, 92174
END:VEVENT
END:VCALENDAR
